BEGIN:VCALENDAR
VERSION:2.0
CALSCALE:GREGORIAN
PRODID:-//Diputació de Barcelona//DibaCMS//EN
BEGIN:VEVENT
UID:993
DTSTAMP:20260419T185208
DTSTART:20091003T093000
DTEND:20091003T133000
SUMMARY:Deixalleria Mòbil - 03/10/2009
LOCATION:
METHOD:PUBLISH
X-WR-CALNAME:ullastrell@ullastrell.cat
X-WR-TIMEZONE:Europe/Madrid
DESCRIPTION:La deixalleria mòbil és un petit centre de recuperació de residus.
És un servei gratuït que es dona cada primer dissabte de mes, en el que un camió situat als llocs indicats, recull tots aquells materials que no correspon dipositar en els contenidors habituals tals com, aerosols, bateries, dissolvent, pintures, piles, mòbils, ferralla, petits electrodomèstics, radiografies, làmpares i fluorescents, olis de cuina, olis minerals (de cotxe), tòners, etc.
 
Està totalment prohibit deixar residus a la parada si no hi ha el camió.
Lloc: Pl.LLuís Companys i Carrer Arquitecte AlsiusOrganitzador: Ajuntament
URI:https://www.ullastrell.cat/actualitat/agenda/deixalleria-mobil-03102009.html
CLASS:PUBLIC
END:VEVENT
END:VCALENDAR
