BEGIN:VCALENDAR
VERSION:2.0
CALSCALE:GREGORIAN
PRODID:-//Diputació de Barcelona//DibaCMS//EN
BEGIN:VEVENT
UID:994
DTSTAMP:20260420T164400
DTSTART:20091107T093000
DTEND:20091107T133000
SUMMARY:Deixalleria Mòbil - 07/11/2009
LOCATION:
METHOD:PUBLISH
X-WR-CALNAME:ullastrell@ullastrell.cat
X-WR-TIMEZONE:Europe/Madrid
DESCRIPTION:Deixalleria mòbilÉs un servei gratuït que es dona cada primer dissabte de mes, en el que un camió situat als llocs indicats, recull tots aquells materials que no correspon dipositar en els contenidors habituals tals com, aerosols, bateries, dissolvents, pintures, piles, mòbils, ferralla, petits electrodomèstics, radiografies, làmpares i fluorescents, olis de cuina, olis minerals (de cotxe), tòners etc.
Deixar materials a la parada sense que hi hagi el camió, suposarà una sanció. Lloc: Pl.LLuís Companys i Carrer Arquitecte AlsiusOrganitzador: Ajuntament
URI:https://www.ullastrell.cat/actualitat/agenda/deixalleria-mobil-07112009.html
CLASS:PUBLIC
END:VEVENT
END:VCALENDAR
