BEGIN:VCALENDAR
VERSION:2.0
CALSCALE:GREGORIAN
PRODID:-//Diputació de Barcelona//DibaCMS//EN
BEGIN:VEVENT
UID:995
DTSTAMP:20260420T145507
DTSTART:20091113T203000
DTEND:20091113T220000
SUMMARY:Xerrada: Internet Segura
LOCATION:
METHOD:PUBLISH
X-WR-CALNAME:ullastrell@ullastrell.cat
X-WR-TIMEZONE:Europe/Madrid
DESCRIPTION:Xerrada col.loqui amb el tema Internet Segura.Xerrada per informar als pares sobre Internet Segura, activitat realitzada conjuntament amb l'Oficina de Relacions amb la Comunitat (ORC), Mossos d'Esquadra.
Cal confirmar assistència a l'Ajuntament.Lloc: Altell del casalOrganitzador: Ajuntament
URI:https://www.ullastrell.cat/actualitat/agenda/xerrada-internet-segura.html
CLASS:PUBLIC
END:VEVENT
END:VCALENDAR
