BEGIN:VCALENDAR
VERSION:2.0
CALSCALE:GREGORIAN
PRODID:-//Diputació de Barcelona//DibaCMS//EN
BEGIN:VEVENT
UID:998
DTSTAMP:20260420T200828
DTSTART:20091206T090000
DTEND:20091206T000000
SUMMARY:Excursionisme: Camins per la llibertat
LOCATION:
METHOD:PUBLISH
X-WR-CALNAME:ullastrell@ullastrell.cat
X-WR-TIMEZONE:Europe/Madrid
DESCRIPTION:L'excursió anirà de la Carena Ca n’Ametller a Pagueres.
 
 Lloc: Davant AjuntamentOrganitzador: Grup de Muntanya
URI:https://www.ullastrell.cat/actualitat/agenda/excursionisme-camins-per-la-llibertat.html
CLASS:PUBLIC
END:VEVENT
END:VCALENDAR
